BEGIN:VCALENDAR
VERSION:2.0
PRODID:icalendar-ruby
CALSCALE:GREGORIAN
METHOD:PUBLISH
BEGIN:VEVENT
DTSTAMP:20260423T141700Z
UID:70-609664@stjudeschurch.net
DTSTART:20260810T140000Z
DTEND:20260810T150000Z
CLASS:PUBLIC
CREATED:20260423T080925
DESCRIPTION:Join Us?\nOn most Mondays\, at 10am\, a vital group of women me
 et in St. Jude’s Library (or on Zoom) to share a dialogue about the Bibl
 e\, life and our roles in it.\nAll opinions are welcome\, and the laughter
  is free. We would love to have you join us!
LAST-MODIFIED:20260423T080925
LOCATION:In person in the Helen Poole Memorial Library and Via ZOOM link fo
 r those at home
SUMMARY:Women's Fellowship
URL;VALUE=URI:https://stjudeschurch.net/events/womens-fellowship/2026-08-10
ATTACH;FILENAME=Womens Fellowship.jpg;FMTTYPE=image/jpeg:https://dq5pwpg1q8
 ru0.cloudfront.net/2025/11/05/16/00/39/6e6c0d3f-32a9-4e41-887e-be419c3f669
 8/Womens%20Fellowship.jpg
END:VEVENT
END:VCALENDAR
