BEGIN:VCALENDAR
VERSION:2.0
PRODID:icalendar-ruby
CALSCALE:GREGORIAN
METHOD:PUBLISH
BEGIN:VEVENT
DTSTAMP:20260423T124248Z
UID:76-610056@stjudeschurch.net
DTSTART:20261022T221500Z
DTEND:20261022T230000Z
CLASS:PUBLIC
CREATED:20260423T080926
DESCRIPTION:
LAST-MODIFIED:20260423T080926
LOCATION:
SUMMARY:Gloria Singers Rehearsal
URL;VALUE=URI:https://stjudeschurch.net/events/gloria-singers-rehearsal/202
 6-10-22
END:VEVENT
END:VCALENDAR
