BEGIN:VCALENDAR
VERSION:2.0
PRODID:icalendar-ruby
CALSCALE:GREGORIAN
METHOD:PUBLISH
BEGIN:VEVENT
DTSTAMP:20260423T110409Z
UID:76-609483@stjudeschurch.net
DTSTART:20261015T221500Z
DTEND:20261015T230000Z
CLASS:PUBLIC
CREATED:20260422T223909
DESCRIPTION:
LAST-MODIFIED:20260422T223909
LOCATION:
SUMMARY:Gloria Singers Rehearsal
URL;VALUE=URI:https://stjudeschurch.net/events/gloria-singers-rehearsal/202
 6-10-15
END:VEVENT
END:VCALENDAR
