BEGIN:VCALENDAR
VERSION:2.0
PRODID:icalendar-ruby
CALSCALE:GREGORIAN
METHOD:PUBLISH
BEGIN:VEVENT
DTSTAMP:20260419T120600Z
UID:340-590948@stjudeschurch.net
DTSTART;VALUE=DATE:20260426
DTEND;VALUE=DATE:20260426
CLASS:PUBLIC
CREATED:20260417T153724
DESCRIPTION:8 AM |  Early Service. Holy Eucharist (said). Presiding Celeb
 rant: The Reverend Canon Dr. David Anderson\, Rector. Preacher: The Revere
 nd Sarah Grondin\, Priest Associate. |Order of Service|\n10:30 AM  | Cho
 ral Service.  Choral Holy Eucharist in the best of the Anglican liturgica
 l and choral traditions. Presiding Celebrant: The Reverend Canon Dr. David
  Anderson\, Rector. Preacher: The Reverend Sarah Grondin\, Priest Associat
 e. The St. Jude's Choir.  |Livestreamed|  |Order of Service|.\nImage: 
  The Good Shepherd\, Julien Dupre\, 1851-1910 (painting\, detail). Califor
 nia Palace of the Legion of Honor\, San Francisco\, CA\, United States.\nI
 mages of women agricultural workers became a popular subject in French pai
 nting of the mid-late 19th century. Julien Dupre drew on that popular them
 e and moved it to allegory\, with the naming of a shepherdess as the "good
  shepherd." Christ\, the spiritual Good Shepherd\, becomes a calming prese
 nce without being pictured\, simply by the artist's use of sheep\, staff/r
 od\, and one who tends the flock.\n
LAST-MODIFIED:20260417T153724
LOCATION:St. Jude’s Church
SUMMARY:Fourth Sunday of Easter
URL;VALUE=URI:https://stjudeschurch.net/events/fourth-sunday-of-easter--340
 /2026-04-26
ATTACH;FILENAME=Easter-4.png;FMTTYPE=image/png:https://dq5pwpg1q8ru0.cloudf
 ront.net/2026/04/17/19/28/45/c5afc1c1-482d-456e-aa3f-96d284242259/Easter-4
 .png
END:VEVENT
END:VCALENDAR
