BEGIN:VCALENDAR
VERSION:2.0
PRODID:icalendar-ruby
CALSCALE:GREGORIAN
METHOD:PUBLISH
BEGIN:VEVENT
DTSTAMP:20260423T144704Z
UID:344-609584@stjudeschurch.net
DTSTART;VALUE=DATE:20260524
DTEND;VALUE=DATE:20260524
CLASS:PUBLIC
CREATED:20260423T075357
DESCRIPTION:8 AM |  Early Service. Holy Eucharist (said). Presiding Celeb
 rant and Preacher: The Reverend Canon Dr. David Anderson\, Rector. |Order 
 of Service|\n10:30 AM  | Choral Service.  Choral Holy Eucharist with Ho
 ly Baptism in the best of the Anglican liturgical and choral traditions. P
 residing Celebrant and Preacher: The Reverend Canon Dr. David Anderson\, R
 ector. Assisting Minister: The Reverend Sarah Grondin\, Priest Associate. 
 Baptismal Candidate: Ty Collver. The St. Jude's Choir.  |Livestreamed| 
  |Order of Service|.\n4 PM | Ordination to the Holy Orders of Priests an
 d Deacons. Festal Choral Eucharst at Christ's Church Cathedral\, 252 Jame
 s Street North\, Hamilton. Presiding Celebrant: The Right Reverend Susan B
 ell\, Bishop of Niagara\; Preacher: The Venerable Sheila VanZandwyck\, Rec
 tor of the Church of the Transfiguration\, St. Catharines and Archdeacon o
 f Lincoln. Candidates for Ordination to the Holy Order of Deacons include 
 Adedayo Olomodosi. The Choir of Christ's Church Cathedral and The St. Jude
 's Choir.\nImage:  Choirstall woodcarving of the Pentecost\, with tongue
 s of fire descending upon the apostles\, 1508-1519 (carving in wood\, deta
 il). Cathédrale d'Amiens\, Amiens\, France.
LAST-MODIFIED:20260423T075357
LOCATION:St. Jude’s Church
SUMMARY:Day of Pentecost
URL;VALUE=URI:https://stjudeschurch.net/events/day-of-pentecost--344/2026-0
 5-24
ATTACH;FILENAME=Pentecost.png;FMTTYPE=image/png:https://dq5pwpg1q8ru0.cloud
 front.net/2026/04/23/11/53/57/b214f86b-ccd9-4ab2-90b9-4b844ba4eac2/Penteco
 st.png
END:VEVENT
END:VCALENDAR
